BEGIN:VCALENDAR
VERSION:2.0
PRODID:-//N S Patel Arts (Autonomus)College
CALSCALE:GREGORIAN
METHOD:PUBLISH
X-WR-CALNAME:N S Patel Arts (Autonomus)College
X-ORIGINAL-URL:https://nspac.edu.in/event/national-symposium-impact-of-social-media-on-society-of-department-of-sociology/
X-WR-CALDESC:National Symposium: “Impact of Social Media on Society” of Department of Sociology
BEGIN:VEVENT
DTSTART:20260220T000000
DTEND:
SUMMARY:National Symposium: “Impact of Social Media on Society” of Department of Sociology
DESCRIPTION:
LOCATION:
END:VEVENT
END:VCALENDAR
