BEGIN:VCALENDAR
VERSION:2.0
PRODID:-//N S Patel Arts (Autonomus)College
CALSCALE:GREGORIAN
METHOD:PUBLISH
X-WR-CALNAME:N S Patel Arts (Autonomus)College
X-ORIGINAL-URL:https://nspac.edu.in/event/state-level-seminar-bhartiya-gyan-parampara-ma-aadivasi-lokparampara-of-department-of-gujarati/
X-WR-CALDESC:State level Seminar: “Bhartiya Gyan Parampara Ma Aadivasi Lokparampara” of Department of Gujarati
BEGIN:VEVENT
DTSTART:20260217T000000
DTEND:20260217T000000
SUMMARY:State level Seminar: “Bhartiya Gyan Parampara Ma Aadivasi Lokparampara” of Department of Gujarati
DESCRIPTION:
LOCATION:
END:VEVENT
END:VCALENDAR
