BEGIN:VCALENDAR
VERSION:2.0
PRODID:-//N S Patel Arts (Autonomus)College
CALSCALE:GREGORIAN
METHOD:PUBLISH
X-WR-CALNAME:N S Patel Arts (Autonomus)College
X-ORIGINAL-URL:https://nspac.edu.in/event/national-seminar-reflection-of-indian-knowledge-system-in-world-literature-of-department-of-sanskrit/
X-WR-CALDESC:National Seminar: &#8220;Reflection of Indian Knowledge System in World Literature&#8221; of Department of Sanskrit
BEGIN:VEVENT
DTSTART:20260210T073000
DTEND:20260210T163000
SUMMARY:National Seminar: &#8220;Reflection of Indian Knowledge System in World Literature&#8221; of Department of Sanskrit
DESCRIPTION:
LOCATION:
END:VEVENT
END:VCALENDAR
