BEGIN:VCALENDAR
VERSION:2.0
PRODID:-//N S Patel Arts (Autonomus)College
CALSCALE:GREGORIAN
METHOD:PUBLISH
X-WR-CALNAME:N S Patel Arts (Autonomus)College
X-ORIGINAL-URL:https://nspac.edu.in/event/national-seminar-hindi-kavyadhara-me-rastriya-or-sanskritik-chetna-of-department-of-hindi/
X-WR-CALDESC:National Seminar: “Hindi Kavyadhara me Rastriya or Sanskritik Chetna” of Department of Hindi
BEGIN:VEVENT
DTSTART:20260207T073000
DTEND:20260207T173000
SUMMARY:National Seminar: “Hindi Kavyadhara me Rastriya or Sanskritik Chetna” of Department of Hindi
DESCRIPTION:
LOCATION:
END:VEVENT
END:VCALENDAR
