BEGIN:VCALENDAR
VERSION:2.0
PRODID:-//N S Patel Arts (Autonomus)College
CALSCALE:GREGORIAN
METHOD:PUBLISH
X-WR-CALNAME:N S Patel Arts (Autonomus)College
X-ORIGINAL-URL:https://nspac.edu.in/event/state-level-workshop-on-research-proposal-and-report-writing-of-department-of-economics/
X-WR-CALDESC:State level workshop on Research Proposal and Report Writing of Department of Economics
BEGIN:VEVENT
DTSTART:20260131T073000
DTEND:20260131T160000
SUMMARY:State level workshop on Research Proposal and Report Writing of Department of Economics
DESCRIPTION:
LOCATION:
END:VEVENT
END:VCALENDAR
