BEGIN:VCALENDAR
VERSION:2.0
PRODID:-//N S Patel Arts (Autonomus)College
CALSCALE:GREGORIAN
METHOD:PUBLISH
X-WR-CALNAME:N S Patel Arts (Autonomus)College
X-ORIGINAL-URL:https://nspac.edu.in/event/state-level-workshop/
X-WR-CALDESC:State level workshop
BEGIN:VEVENT
DTSTART:20260121T083000
DTEND:20260121T153000
SUMMARY:State level workshop
DESCRIPTION:
LOCATION:
END:VEVENT
END:VCALENDAR
