BEGIN:VCALENDAR
VERSION:2.0
PRODID:-//N S Patel Arts (Autonomus)College
CALSCALE:GREGORIAN
METHOD:PUBLISH
X-WR-CALNAME:N S Patel Arts (Autonomus)College
X-ORIGINAL-URL:https://nspac.edu.in/event/state-level-seminar-on-cyber-security-and-digital-awareness/
X-WR-CALDESC:State Level Seminar on  Cyber Security and Digital Awareness
BEGIN:VEVENT
DTSTART:20260120T073000
DTEND:20260120T143000
SUMMARY:State Level Seminar on  Cyber Security and Digital Awareness
DESCRIPTION:
LOCATION:
END:VEVENT
END:VCALENDAR
