BEGIN:VCALENDAR
VERSION:2.0
PRODID:-//N S Patel Arts (Autonomus)College
CALSCALE:GREGORIAN
METHOD:PUBLISH
X-WR-CALNAME:N S Patel Arts (Autonomus)College
X-ORIGINAL-URL:https://nspac.edu.in/event/national-level-seminar/
X-WR-CALDESC:National Level Seminar
BEGIN:VEVENT
DTSTART:20260110T080000
DTEND:20260110T133000
SUMMARY:National Level Seminar
DESCRIPTION:
LOCATION:
END:VEVENT
END:VCALENDAR
