BEGIN:VCALENDAR
VERSION:2.0
PRODID:-//N S Patel Arts (Autonomus)College
CALSCALE:GREGORIAN
METHOD:PUBLISH
X-WR-CALNAME:N S Patel Arts (Autonomus)College
X-ORIGINAL-URL:https://nspac.edu.in/event/mahispandan-kala-mahotsav/
X-WR-CALDESC:Mahispandan &#8211; Kala Mahotsav
BEGIN:VEVENT
DTSTART:20230201T080000
DTEND:20230204T190000
SUMMARY:Mahispandan &#8211; Kala Mahotsav
DESCRIPTION:
LOCATION:
END:VEVENT
END:VCALENDAR
