BEGIN:VCALENDAR
VERSION:2.0
PRODID:-//N S Patel Arts (Autonomus)College
CALSCALE:GREGORIAN
METHOD:PUBLISH
X-WR-CALNAME:N S Patel Arts (Autonomus)College
X-ORIGINAL-URL:https://nspac.edu.in/event/16th-national-youth-parliament-competition-group-level-under-the-aegis-of-ministry-of-parliamentary-affairs-government-of-india/
X-WR-CALDESC:16th National Youth Parliament Competition (Group Level) under the aegis of Ministry of Parliamentary Affairs, Government of India.
BEGIN:VEVENT
DTSTART:20220315T123000
DTEND:20220315T140000
SUMMARY:16th National Youth Parliament Competition (Group Level) under the aegis of Ministry of Parliamentary Affairs, Government of India.
DESCRIPTION:
LOCATION:
END:VEVENT
END:VCALENDAR
