BEGIN:VCALENDAR
VERSION:2.0
PRODID:-//N S Patel Arts (Autonomus)College
CALSCALE:GREGORIAN
METHOD:PUBLISH
X-WR-CALNAME:N S Patel Arts (Autonomus)College
X-ORIGINAL-URL:https://nspac.edu.in/event/womens-day-celebration-2/
X-WR-CALDESC:Women&#8217;s Day Celebration
BEGIN:VEVENT
DTSTART:20220308T000000
DTEND:20220309T000000
SUMMARY:Women&#8217;s Day Celebration
DESCRIPTION:
LOCATION:
END:VEVENT
END:VCALENDAR
