BEGIN:VCALENDAR
VERSION:2.0
PRODID:-//N S Patel Arts (Autonomus)College
CALSCALE:GREGORIAN
METHOD:PUBLISH
X-WR-CALNAME:N S Patel Arts (Autonomus)College
X-ORIGINAL-URL:https://nspac.edu.in/event/inauguration-of-ssip-incubation-center/
X-WR-CALDESC:Inauguration of SSIP Incubation Center
BEGIN:VEVENT
DTSTART:20210710T000000
DTEND:20210710T000000
SUMMARY:Inauguration of SSIP Incubation Center
DESCRIPTION:
LOCATION:
END:VEVENT
END:VCALENDAR
