BEGIN:VCALENDAR
VERSION:2.0
PRODID:-//N S Patel Arts (Autonomus)College
CALSCALE:GREGORIAN
METHOD:PUBLISH
X-WR-CALNAME:N S Patel Arts (Autonomus)College
X-ORIGINAL-URL:https://nspac.edu.in/event/__trashed/
X-WR-CALDESC:World Environment Day
BEGIN:VEVENT
DTSTART:20210605T000000
DTEND:
SUMMARY:World Environment Day
DESCRIPTION:
LOCATION:
END:VEVENT
END:VCALENDAR
