BEGIN:VCALENDAR
VERSION:2.0
PRODID:-//N S Patel Arts (Autonomus)College
CALSCALE:GREGORIAN
METHOD:PUBLISH
X-WR-CALNAME:N S Patel Arts (Autonomus)College
X-ORIGINAL-URL:https://nspac.edu.in/event/gujarat-economic-associations-golden-jubilee-conference/
X-WR-CALDESC:Gujarat Economic Association&#8217;s Golden Jubilee Conference
BEGIN:VEVENT
DTSTART:20201001T100000
DTEND:20201007T150000
SUMMARY:Gujarat Economic Association&#8217;s Golden Jubilee Conference
DESCRIPTION:
LOCATION:
END:VEVENT
END:VCALENDAR
