BEGIN:VCALENDAR
VERSION:2.0
PRODID:-//N S Patel Arts (Autonomus)College
CALSCALE:GREGORIAN
METHOD:PUBLISH
X-WR-CALNAME:N S Patel Arts (Autonomus)College
X-ORIGINAL-URL:https://nspac.edu.in/event/teachers-day-celebration/
X-WR-CALDESC:Teacher’s Day Celebration
BEGIN:VEVENT
DTSTART:20190905T100000
DTEND:20190905T170000
SUMMARY:Teacher’s Day Celebration
DESCRIPTION:To celebrate Teachers Day, the students of N S Patel Arts College hosted a special event to raise a toast for their Principal, Faculty members and Administrative staff.
LOCATION:Near N.S Patel Circle Bhalej Rd Ganesh Colony, Anand, Gujarat
END:VEVENT
END:VCALENDAR
